BEGIN:VCALENDAR
VERSION:2.0
PRODID:-//Gemeinsam erinnern - ECPv4.6.10.1//NONSGML v1.0//EN
CALSCALE:GREGORIAN
METHOD:PUBLISH
X-WR-CALNAME:Gemeinsam erinnern
X-ORIGINAL-URL:https://gemeinsam-erinnern.eu
X-WR-CALDESC:Veranstaltungen für Gemeinsam erinnern
BEGIN:VEVENT
DTSTART;VALUE=DATE:20180420
DTEND;VALUE=DATE:20180423
DTSTAMP:20260422T132856
CREATED:20180109T123107Z
LAST-MODIFIED:20180109T123508Z
UID:2691-1524182400-1524441599@gemeinsam-erinnern.eu
SUMMARY:Angebote für Partnerschulen in der Gedenkstätte Theresienstadt
DESCRIPTION:3-tägiger Workshop für Schüler/-innen aus Deutschland und Tschechien in der Gedenkstätte Theresienstadt \n
URL:https://gemeinsam-erinnern.eu/event/angebote-fuer-partnerschulen/
LOCATION:Tschechische Republik
ORGANIZER;CN="TANDEM":MAILTO:tandem@tandem-org.de
END:VEVENT
END:VCALENDAR